BEGIN:VCALENDAR
VERSION:2.0
METHOD:PUBLISH
BEGIN:VEVENT
DTSTART:20230517T170000
DTEND:20230517T170000
LOCATION:Strefa Spotkań Face2Face ul. Żelazna 2  Katowice
TRANSP: OPAQUE
SEQUENCE:0
UID:
DTSTAMP:20260421T103827Z
SUMMARY:Spotkanie autorskie z Janiną Bąk w Face2Face Business Campus
DESCRIPTION:Zapraszamy na wyjątkowe wydarzenie dotyczące premiery książki Janiny Bąk "Statystycznie rzecz biorąc 2. Czyli jak zmierzyć siłę tornada za pomocą gofra"!Data: 17 maja 2023 r. Godzina:......
URL:https://app.evenea.pl/event/face2face/
PRIORITY:1
CLASS:PUBLIC
END:VEVENT
END:VCALENDAR
