BEGIN:VCALENDAR
VERSION:2.0
METHOD:PUBLISH
BEGIN:VEVENT
DTSTART:20240601T203000
DTEND:20240601T203000
LOCATION:Hala Mistrzów Aleja Fryderyka Chopina 8  Włocławek
TRANSP: OPAQUE
SEQUENCE:0
UID:
DTSTAMP:20260420T130833Z
SUMMARY:Koncert Fajansowe Sny - Święto Województwa Kujawsko-Pomorskiego godzina 20.30
DESCRIPTION:Zapraszamy na wyjątkowy koncert z okazji #ŚwiętaWojewództwa #KujawyPomorze!w tym roku FAJANSOWE SNY po raz kolejny będzie śnić z nami silna reprezentacja czołowych polskich......
URL:https://app.evenea.pl/event/fajansowesny/
PRIORITY:1
CLASS:PUBLIC
END:VEVENT
END:VCALENDAR
