BEGIN:VCALENDAR
VERSION:2.0
METHOD:PUBLISH
BEGIN:VEVENT
DTSTART:20220528T173000
DTEND:20220528T190000
LOCATION:   
TRANSP: OPAQUE
SEQUENCE:0
UID:
DTSTAMP:20260420T091854Z
SUMMARY:Nordic Talking Festival 5 | Pokaz Filmowy FAROE WAY: Sztuka przetrwania na Wyspach Owczych
DESCRIPTION:Pokaz filmu "FAROE WAY: Sztuka przetrwania na Wyspach Owczych" w nowej, niepublikowanej wcześniej wersji. Po filmie odbędzie się prezentacja o tradycji i historii mieszkańców archipelagu.......
URL:https://app.evenea.pl/event/faroe-way/
PRIORITY:1
CLASS:PUBLIC
END:VEVENT
END:VCALENDAR
