BEGIN:VCALENDAR
VERSION:2.0
METHOD:PUBLISH
BEGIN:VEVENT
DTSTART:20250417T173000
DTEND:20250417T220000
LOCATION:Google for Startups Campus Plac Konesera, 10  Warszawa
TRANSP: OPAQUE
SEQUENCE:0
UID:
DTSTAMP:20260423T222959Z
SUMMARY:Female Founders Meetup: April 17th, Google for Startups Campus Warsaw
DESCRIPTION:Ready to be inspired and uplifted by some of the most amazing women in the IT-world? Ū HUB startup community is hosting a spring meetup in Warsaw, and this time, women are taking the lead. Get......
URL:https://app.evenea.pl/event/femalefounders/
PRIORITY:1
CLASS:PUBLIC
END:VEVENT
END:VCALENDAR
