BEGIN:VCALENDAR
VERSION:2.0
METHOD:PUBLISH
BEGIN:VEVENT
DTSTART:20231003T170000
DTEND:20231003T170000
LOCATION:Centralny Dom Technologii lub online Krucza 50, 1 piętro  Warszawa
TRANSP: OPAQUE
SEQUENCE:0
UID:
DTSTAMP:20260425T132315Z
SUMMARY:FENG: nowe perspektywy dla polskiego rynku VC
DESCRIPTION:Rozpoczynamy nowy etap przygotowań do wdrożenia środków z Funduszy Europejskich Nowoczesna Gospodarka. Nowa pula pieniędzy pozwoli na dalsze finansowanie lokalnego rynku venture capital w......
URL:https://app.evenea.pl/event/fengpfrv/
PRIORITY:1
CLASS:PUBLIC
END:VEVENT
END:VCALENDAR
