BEGIN:VCALENDAR
VERSION:2.0
METHOD:PUBLISH
BEGIN:VEVENT
DTSTART:20210627T110000
DTEND:20210627T170000
LOCATION:Nowy Jantar ul. Rybacka 12A  Jantar
TRANSP: OPAQUE
SEQUENCE:0
UID:
DTSTAMP:20260421T043148Z
SUMMARY:FESTIWAL ZDROWEGO ŻYCIA
DESCRIPTION:FESTIWAL ZDROWEGO ŻYCIAZAPROSZENIE: 27.VI.2021 - Biznes po Kaszubsku &amp; Nowy JantarDzień dobry.Zapraszamy na spotkanie, Biznes po Kaszubsku, które odbędzie się w dniu 27.VI.2021 w godzinach......
URL:https://app.evenea.pl/event/festiwal-zdrowego-zycia/
PRIORITY:1
CLASS:PUBLIC
END:VEVENT
END:VCALENDAR
