BEGIN:VCALENDAR
VERSION:2.0
METHOD:PUBLISH
BEGIN:VEVENT
DTSTART:20231202T110000
DTEND:20231202T170000
LOCATION:AMBER EXPO - Centrum Wystawienniczo-Kongresowe Żaglowa 11  80-560 Gdańsk
TRANSP: OPAQUE
SEQUENCE:0
UID:
DTSTAMP:20260424T115544Z
SUMMARY:Festiwal Dobrego Porodu 2 grudnia 2023
DESCRIPTION:Zapraszamy na Festiwal Dobrego Porodu, który odbędzie się już 2 grudnia w Amber Expo w Gdańsku! To wyjątkowe wydarzenie dla przyszłych rodziców, którzy oczekują na przyjście na świat......
URL:https://app.evenea.pl/event/festiwaldobregoporodu2grudnia/
PRIORITY:1
CLASS:PUBLIC
END:VEVENT
END:VCALENDAR
