BEGIN:VCALENDAR
VERSION:2.0
METHOD:PUBLISH
BEGIN:VEVENT
DTSTART:20210530T100000
DTEND:20210530T180000
LOCATION:lastag i flash Przędzalniana 60  Białystok
TRANSP: OPAQUE
SEQUENCE:0
UID:
DTSTAMP:20260422T144038Z
SUMMARY:FESTIWAL DOBREJ ZABAWY - dookoła świata z Lastagiem i Flashem
DESCRIPTION:Lastag oraz Flash zapraszają 30 maja na FESTIWAL DOBREJ ZABAWY z okazji Dnia Dziecka pod hasłem: dookoła świata z Lastagiem i Flashem.Razem z Lastagiem i Flashem zabierzemy Was w zabawową......
URL:https://app.evenea.pl/event/festiwaldobrejzabawy/
PRIORITY:1
CLASS:PUBLIC
END:VEVENT
END:VCALENDAR
