BEGIN:VCALENDAR
VERSION:2.0
METHOD:PUBLISH
BEGIN:VEVENT
DTSTART:20210423T110000
DTEND:20210423T114500
LOCATION:inQUBE Uniwersytecki Inkubator Przedsiębiorczości Wielka 67  Wrocław
TRANSP: OPAQUE
SEQUENCE:0
UID:
DTSTAMP:20260425T170130Z
SUMMARY:Największe wydarzenia i festiwale dla startupów na świecie - webinar
DESCRIPTION:Jedną z form budowania sieci kontaktów czy zyskiwania zainteresowania wśród potencjalnych partnerów biznesowych, są targi oraz konferencje. Podczas webinaru przedstawimy najbardziej......
URL:https://app.evenea.pl/event/festiwalestartup/
PRIORITY:1
CLASS:PUBLIC
END:VEVENT
END:VCALENDAR
