BEGIN:VCALENDAR
VERSION:2.0
METHOD:PUBLISH
BEGIN:VEVENT
DTSTART:20251120T190000
DTEND:20251123T190000
LOCATION:kino DCF Piłsudskiego 64A  Wrocław
TRANSP: OPAQUE
SEQUENCE:0
UID:
DTSTAMP:20260424T155339Z
SUMMARY:Festiwal Korelacje 2025 | filmy z autorskimi narracjami
DESCRIPTION:Druga edycja festiwalu filmów z autorskimi narracjami mistrzyń i mistrzów słowa odbędzie się w dniach 20-23 listopada w kinie DCF we Wrocławiu. Przed nami 11 seansów, w tym 6 premierowych......
URL:https://app.evenea.pl/event/festiwalkorelacje2025/
PRIORITY:1
CLASS:PUBLIC
END:VEVENT
END:VCALENDAR
