BEGIN:VCALENDAR
VERSION:2.0
METHOD:PUBLISH
BEGIN:VEVENT
DTSTART:20191022T164500
DTEND:20191031T204500
LOCATION:Uniwersytet Ekonomiczny w Krakowie ul. Rakowicka 27  Kraków
TRANSP: OPAQUE
SEQUENCE:0
UID:
DTSTAMP:20260419T173413Z
SUMMARY:FESTIWAL MENEDŻERSKI 2019
DESCRIPTION:22.10.2019 | 16:45 | UEK | Sala 214 Biblioteka - Zarządzanie projektem "Kariera"Jesteś na pierwszym roku, albo nie wiesz jak zaplanować swoją karierę? Koniecznie zapisz się na ten warsztat!......
URL:https://app.evenea.pl/event/festiwalmenedzerskie2019/
PRIORITY:1
CLASS:PUBLIC
END:VEVENT
END:VCALENDAR
