BEGIN:VCALENDAR
VERSION:2.0
METHOD:PUBLISH
BEGIN:VEVENT
DTSTART:20231025T131500
DTEND:20231025T210000
LOCATION:Airport Hotel Okęcie ul. Komitetu Obrony Robotników 24​  Warszawa
TRANSP: OPAQUE
SEQUENCE:0
UID:
DTSTAMP:20260425T200741Z
SUMMARY:Festiwal Mentoringu 2023
DESCRIPTION:ZAPRASZAMY NA FESTIWAL MENTORINGUKONFERENCJA INSPIRACYJNO-MENTORINGOWASERDECZNIE ZAPRASZAMY NA KONFERENCJĘ INSPIRACYJNO-MENTORINGOWĄ, KTÓRA ODBĘDZIE SIĘ W RAMACH FESTIWALU MENTORINGU!Już 25......
URL:https://app.evenea.pl/event/festiwalmentoringu23/
PRIORITY:1
CLASS:PUBLIC
END:VEVENT
END:VCALENDAR
