BEGIN:VCALENDAR
VERSION:2.0
METHOD:PUBLISH
BEGIN:VEVENT
DTSTART:20191004T090000
DTEND:20191004T140000
LOCATION:Toruńskie Centrum Aktywności Lokalnej 2.Piętro Marii Konopnickiej 13  87-100 Toruń
TRANSP: OPAQUE
SEQUENCE:0
UID:
DTSTAMP:20260420T193317Z
SUMMARY:Zrozumieć świat przez gry - Festiwal Gier Edukacji Globalnej - dzień drugi
DESCRIPTION: Drugi dzień Festiwalu to spotkanie w mniejszym, eksperckim gronie, aby porozmawiać o tym jak gry tworzyć, wprowadzać do szkół i jakie wyzwania temu towarzyszą. Spotkanie to adresujemy......
URL:https://app.evenea.pl/event/festiwalpah2/
PRIORITY:1
CLASS:PUBLIC
END:VEVENT
END:VCALENDAR
