BEGIN:VCALENDAR
VERSION:2.0
METHOD:PUBLISH
BEGIN:VEVENT
DTSTART:20260508T190000
DTEND:20260508T194500
LOCATION:Kino Spectrum Garncarska 18/20  Gdańsk
TRANSP: OPAQUE
SEQUENCE:0
UID:
DTSTAMP:20260425T134410Z
SUMMARY:I KRÓL RZEKŁ, CO ZA FANTASTYCZNA... MINUTA!
DESCRIPTION:Festiwal Filmów Jednominutowychprzegląd krótkich form z Internetu8 maja 2026, godz. 19:00 Kino Spektrum, Garncarska 18/20, Gdańsk I KRÓL RZEKŁ, CO ZA FANTASTYCZNA... MINUTA!prowadzenie: Kaja......
URL:https://app.evenea.pl/event/ff1przegladkrotkichform/
PRIORITY:1
CLASS:PUBLIC
END:VEVENT
END:VCALENDAR
