BEGIN:VCALENDAR
VERSION:2.0
METHOD:PUBLISH
BEGIN:VEVENT
DTSTART:20260508T100000
DTEND:20260508T170000
LOCATION:Nadbałtyckie Centrum Kultury w Gdańsku - Ratusz Staromiejski Korzenna 33/35  Gdańsk
TRANSP: OPAQUE
SEQUENCE:0
UID:
DTSTAMP:20260424T000401Z
SUMMARY:EMI BUCHWALD: w montażu. Od scenariusza na ekran
DESCRIPTION:Festiwal Filmów Jednominutowychwarsztaty8 maja 2026, godz. 10:00-17:00 (przerwa w godz. 13:00-14:00)EMI BUCHWALD: w montażu. Od scenariusza na ekran Warsztat analityczny prowadzony przez......
URL:https://app.evenea.pl/event/ff1warsztatwmontazu/
PRIORITY:1
CLASS:PUBLIC
END:VEVENT
END:VCALENDAR
