BEGIN:VCALENDAR
VERSION:2.0
METHOD:PUBLISH
BEGIN:VEVENT
DTSTART:20241201T160000
DTEND:20241201T160000
LOCATION:Gminne Centrum Kultury w Gródku A. i G. Chodkiewiczów 4  16-040 Gródek
TRANSP: OPAQUE
SEQUENCE:0
UID:
DTSTAMP:20260421T132855Z
SUMMARY:Kabaret FIFA-RAFA w Gródku
DESCRIPTION:Kabaret FIFA-RAFA zaprasza na swój najnowszy program "LOVE IS IN THE AIR".W programie tym zabiera on publiczność w podróż po przestworzach humoru, by razem z widzem brodzić w obłokach......
URL:https://app.evenea.pl/event/fifarafagrodek/
PRIORITY:1
CLASS:PUBLIC
END:VEVENT
END:VCALENDAR
