BEGIN:VCALENDAR
VERSION:2.0
METHOD:PUBLISH
BEGIN:VEVENT
DTSTART:20210921T000000
DTEND:20211130T235900
LOCATION:Podpis online   
TRANSP: OPAQUE
SEQUENCE:0
UID:
DTSTAMP:20260422T200149Z
SUMMARY:Porozumienie na rzecz zrównoważonej produkcji audiowizualnej - Film dla klimatu
DESCRIPTION:POROZUMIENIE NA RZECZ ZRÓWNOWAŻONEJ PRODUKCJI AUDIOWIZUALNEJ - FILM DLA KLIMATU My, niżej podpisani sygnatariusze porozumienia, Mamy prawo, chcemy i czujemy się zobowiązani do podejmowania......
URL:https://app.evenea.pl/event/filmdlaklimatu/
PRIORITY:1
CLASS:PUBLIC
END:VEVENT
END:VCALENDAR
