BEGIN:VCALENDAR
VERSION:2.0
METHOD:PUBLISH
BEGIN:VEVENT
DTSTART:20221219T160000
DTEND:20230119T204500
LOCATION:Sala audiowizualna Muzeum Marynarki Wojennej w Gdyni Zawiszy Czarnego 1B  Gdynia
TRANSP: OPAQUE
SEQUENCE:0
UID:
DTSTAMP:20260422T174750Z
SUMMARY:Mini Przegląd Filmów i Fotografii Morskiej
DESCRIPTION:Mini Przegląd Filmów i Fotografii Morskiej projekt Legenda Morska GdyniZapraszamy na kolejną edycję wydarzenia "Mini Przegląd Filmów i Fotografii Morskiej" realizowanego w ramach projektu......
URL:https://app.evenea.pl/event/filmymorskie/
PRIORITY:1
CLASS:PUBLIC
END:VEVENT
END:VCALENDAR
