BEGIN:VCALENDAR
VERSION:2.0
METHOD:PUBLISH
BEGIN:VEVENT
DTSTART:20211015T180000
DTEND:20211015T180000
LOCATION:filia nr 7 pl. Matki Teresy z Kalkuty 8  Szczecin
TRANSP: OPAQUE
SEQUENCE:0
UID:
DTSTAMP:20260423T020656Z
SUMMARY:Spotkanie z podróżnikiem Jarosławem Fischbachem
DESCRIPTION:15 października (piątek) o godz. 18.00 zapraszamy na spotkanie z podróznikiem Jarosławem Fischbachem. Wydarzenie odbędzie się w formule hybrydowej: stacjonarnie w filii nr 7 (Pl. Matki Teresy......
URL:https://app.evenea.pl/event/fischbach/
PRIORITY:1
CLASS:PUBLIC
END:VEVENT
END:VCALENDAR
