BEGIN:VCALENDAR
VERSION:2.0
METHOD:PUBLISH
BEGIN:VEVENT
DTSTART:20200711T143000
DTEND:20200711T183000
LOCATION:Akademia WypiekAna Jesionowa   13/2  Gdask
TRANSP: OPAQUE
SEQUENCE:0
UID:
DTSTAMP:20260421T125747Z
SUMMARY:Fit batony, zdrowe deserki, śniadania, Smoothie bowl
DESCRIPTION:Podczas warsztatów poznacie jak ze zwykłych składników zrobić zdrowe słodkości.Stworzymy batony, deserki oraz przekąski i śniadania.Nauczymy się komponować słodycze według zasad......
URL:https://app.evenea.pl/event/fit-batony-lipiec/
PRIORITY:1
CLASS:PUBLIC
END:VEVENT
END:VCALENDAR
