BEGIN:VCALENDAR
VERSION:2.0
METHOD:PUBLISH
BEGIN:VEVENT
DTSTART:20210626T120000
DTEND:20210626T134500
LOCATION:Ratusz Staromiejski / Nadbałtyckie Centrum Kultury w Gdańsku ul. Korzenna 33/35  Gdańsk
TRANSP: OPAQUE
SEQUENCE:0
UID:
DTSTAMP:20260422T080422Z
SUMMARY:Tworzenie instrumentów muzycznych inspirowanych naturą, w duchu zero waste i trash-art. / 12. Festiwal Kultur "Okno na świat"
DESCRIPTION:Muzyka Ziemi to muzyka przyrody, rytm serca każdego żywego stworzenia, ale i dźwięki wydobywane za pomocą elementów przyrody. Ze względu na ogromny wpływ człowieka na przyrodę obecny......
URL:https://app.evenea.pl/event/fkwarsztaty/
PRIORITY:1
CLASS:PUBLIC
END:VEVENT
END:VCALENDAR
