BEGIN:VCALENDAR
VERSION:2.0
METHOD:PUBLISH
BEGIN:VEVENT
DTSTART:20240813T173000
DTEND:20240924T193000
LOCATION:Fundacja IB Polska Nowa Huta  Kraków
TRANSP: OPAQUE
SEQUENCE:0
UID:
DTSTAMP:20260423T003832Z
SUMMARY:Florystyczne warsztaty z rękodzieła | Floristic handicraft workshops | Флористичні майстер-класи з рукоділля
DESCRIPTION:Florystyczne warsztaty z rękodziełaCzy lubisz być kreatywny? A kwiaty? W takim razie z wielką radością zapraszamy Cię na nasze warsztaty rękodzieła, gdzie będziemy tworzyć piękne,......
URL:https://app.evenea.pl/event/florystycznewarsztatyzrekodziela/
PRIORITY:1
CLASS:PUBLIC
END:VEVENT
END:VCALENDAR
