BEGIN:VCALENDAR
VERSION:2.0
METHOD:PUBLISH
BEGIN:VEVENT
DTSTART:20200620T093000
DTEND:20200620T113000
LOCATION:Miejskie Hale Targowe w Gdyni ul. Wójta Radtkego 36  Gdynia
TRANSP: OPAQUE
SEQUENCE:0
UID:
DTSTAMP:20260421T114149Z
SUMMARY:Flower BLICK. Fotografia decydującego momentu
DESCRIPTION:Miejskie Hale Targowe w Gdyni zapraszają na kreatywny warsztat fotograficzny "Flower BLICK. Fotografia decydującego momentu". Spotkanie jest częścią wydarzenia Festiwalu Kwiatów - Flower......
URL:https://app.evenea.pl/event/flowerblick/
PRIORITY:1
CLASS:PUBLIC
END:VEVENT
END:VCALENDAR
