BEGIN:VCALENDAR
VERSION:2.0
METHOD:PUBLISH
BEGIN:VEVENT
DTSTART:20200620T143000
DTEND:20200620T143000
LOCATION:spotkanie on-line   Gdynia
TRANSP: OPAQUE
SEQUENCE:0
UID:
DTSTAMP:20260421T114621Z
SUMMARY:Flower Power! Girl Power! Motyw kwiatów w twórczości projektantek od II poł. XX wieku do współczesności
DESCRIPTION:Miejskie Hale Targowe w Gdyni zapraszają na prelekcję "Flower Power! Girl Power! Motyw kwiatów w twórczości projektantek od II poł. XX wieku do współczesności". Spotkanie jest częścią......
URL:https://app.evenea.pl/event/flowerpowergirlpower/
PRIORITY:1
CLASS:PUBLIC
END:VEVENT
END:VCALENDAR
