BEGIN:VCALENDAR
VERSION:2.0
METHOD:PUBLISH
BEGIN:VEVENT
DTSTART:20190924T170000
DTEND:20190924T210000
LOCATION:Google For Startups Campus Plac Konesera 10  Warszawa
TRANSP: OPAQUE
SEQUENCE:0
UID:
DTSTAMP:20260424T102058Z
SUMMARY:Rusza FoodForward. Społeczność. Przyszłość. FoodTech.
DESCRIPTION:Branża spożywcza i gastronomiczna najdłużej czekały w kolejce po innowacje technologiczne. Po fintechach czy martechach (innowacjach w sektorze finansowym i w dziedzinie marketingu) przyszedł......
URL:https://app.evenea.pl/event/foodforwardstart/
PRIORITY:1
CLASS:PUBLIC
END:VEVENT
END:VCALENDAR
