BEGIN:VCALENDAR
VERSION:2.0
METHOD:PUBLISH
BEGIN:VEVENT
DTSTART:20210629T170000
DTEND:20210629T170000
LOCATION:HubHub Postępu 14  Warszawa
TRANSP: OPAQUE
SEQUENCE:0
UID:
DTSTAMP:20260420T063527Z
SUMMARY:foodtech.ac Demo Day - Batch 4
DESCRIPTION:⚠️⚠️⚠️ Event moved to 29.06 ⚠️⚠️⚠️Another foodtech.ac batch is coming to an end. And that means one thing - Demo Day! Meet the startups that have been working hard for the......
URL:https://app.evenea.pl/event/foodtech-batch4/
PRIORITY:1
CLASS:PUBLIC
END:VEVENT
END:VCALENDAR
