BEGIN:VCALENDAR
VERSION:2.0
METHOD:PUBLISH
BEGIN:VEVENT
DTSTART:20251118T100000
DTEND:20251118T100000
LOCATION:Hotel Poziom 511 Jura Wellness Hotel & Spa ul. Bonerów 33  42-440 Podzamcze
TRANSP: OPAQUE
SEQUENCE:0
UID:
DTSTAMP:20260420T182820Z
SUMMARY:12th Baltic-Adriatic Forum
DESCRIPTION:12th Baltic-Adriatic Forum Hotel Poziom 511 Jura Wellness Hotel &amp; Spa, ul. Bonerów 33, 42-440 PodzamczeTuesday, 18 November 2025, 10:00 - 16:00Conference moderator: Dr hab. Maciej Matczak,......
URL:https://app.evenea.pl/event/forumbac2025/
PRIORITY:1
CLASS:PUBLIC
END:VEVENT
END:VCALENDAR
