BEGIN:VCALENDAR
VERSION:2.0
METHOD:PUBLISH
BEGIN:VEVENT
DTSTART:20190626T093000
DTEND:20190626T150000
LOCATION:Sala konferencyjna, Regionalne Centrum Innowacji i Transferu Technologii Zachodniopomorski Uniwersytet Technologiczny w Szczecinie ul. Jagiellońska 20-21  Szczecin
TRANSP: OPAQUE
SEQUENCE:0
UID:
DTSTAMP:20260420T174821Z
SUMMARY:REGIONALNE FORUM RECYKLINGOWE SZCZECIN
DESCRIPTION:Szanowni PaństwoMamy zaszczyt zaprosić do udziału w Regionalnym Forum Recyklingu, które odbędzie się w dniu 26 czerwca 2019 r w Szczecinie .Forum dotyczyć będzie problematyki odpadów oraz......
URL:https://app.evenea.pl/event/forumrecyklingu/
PRIORITY:1
CLASS:PUBLIC
END:VEVENT
END:VCALENDAR
