BEGIN:VCALENDAR
VERSION:2.0
METHOD:PUBLISH
BEGIN:VEVENT
DTSTART:20210611T130000
DTEND:20210611T170000
LOCATION:Studio Mleko Bułgarska 65C  Poznań
TRANSP: OPAQUE
SEQUENCE:0
UID:
DTSTAMP:20260423T205258Z
SUMMARY:Fotografia z błyskiem - Warsztaty studyjne z Profoto
DESCRIPTION:\n\n	Warsztaty i sesja w studio ze sprzętem Profoto!\n\n\n\n	\n\n	Fotografujesz? Może czas wznieść swoje umiejętności na wyższy poziom i nauczyć się panować nad światłem w warunkach......
URL:https://app.evenea.pl/event/fotografia-z-blyskiem-poznan/
PRIORITY:1
CLASS:PUBLIC
END:VEVENT
END:VCALENDAR
