BEGIN:VCALENDAR
VERSION:2.0
METHOD:PUBLISH
BEGIN:VEVENT
DTSTART:20251001T170000
DTEND:20251001T220000
LOCATION:Google for Startups Campus Warsaw Pl. Konesera 10  Warszawa
TRANSP: OPAQUE
SEQUENCE:0
UID:
DTSTAMP:20260423T163304Z
SUMMARY:Founders Connect 5: Sekrety skalowania - pierwszy klient, pierwszy milion, pierwszy exit
DESCRIPTION:\n\n	Skalujesz swój startup? Jesteś na etapie pre-seed/seed i już myślisz o tym, jak rozwijać projekt tak, żeby był skalowalny? Chcesz dowiedzieć się, jak pozyskiwać klientów w......
URL:https://app.evenea.pl/event/foundersconnect5/
PRIORITY:1
CLASS:PUBLIC
END:VEVENT
END:VCALENDAR
