BEGIN:VCALENDAR
VERSION:2.0
METHOD:PUBLISH
BEGIN:VEVENT
DTSTART:20190822T180000
DTEND:20190822T210000
LOCATION:Alibi Club aleja Niepodległości 8A  Poznań
TRANSP: OPAQUE
SEQUENCE:0
UID:
DTSTAMP:20260420T163028Z
SUMMARY:front.radar #4
DESCRIPTION:Przed nami kolejne spotkanie front.radar - poznańskiej społeczności skupiającej pasjonatów frontendu 🧡👨👩💻 Za sobą mamy już 3 edycje tego kultowego wydarzenia. Na każdym z nich......
URL:https://app.evenea.pl/event/frontradar4/
PRIORITY:1
CLASS:PUBLIC
END:VEVENT
END:VCALENDAR
