BEGIN:VCALENDAR
VERSION:2.0
METHOD:PUBLISH
BEGIN:VEVENT
DTSTART:20250122T173000
DTEND:20250122T223000
LOCATION:Freespace Powązkowska 24b  WARSZAWA
TRANSP: OPAQUE
SEQUENCE:0
UID:
DTSTAMP:20260424T064837Z
SUMMARY:FuckUps Night on January 22: Startup Founders & Business Owners
DESCRIPTION:Ū HUB kicks off the new season with a FuckUPs Night event! This time, we're bringing not just startup founders but also business owners from traditional industries. Expect an evening filled with......
URL:https://app.evenea.pl/event/fuckupsnight/
PRIORITY:1
CLASS:PUBLIC
END:VEVENT
END:VCALENDAR
