BEGIN:VCALENDAR
VERSION:2.0
METHOD:PUBLISH
BEGIN:VEVENT
DTSTART:20230313T100000
DTEND:20230313T100000
LOCATION:Podkarpacki Park Naukowo-Technologiczny AEROPOLIS Jasionka 954  Jasionka
TRANSP: OPAQUE
SEQUENCE:0
UID:
DTSTAMP:20260422T062847Z
SUMMARY:FUNDUSZE EUROPEJSKIE 2021-2027 "Innowacyjna firma. Wsparcie dla przedsiębiorców z funduszy europejskich"
DESCRIPTION:...
URL:https://app.evenea.pl/event/fundusze21-27/
PRIORITY:1
CLASS:PUBLIC
END:VEVENT
END:VCALENDAR
