BEGIN:VCALENDAR
VERSION:2.0
METHOD:PUBLISH
BEGIN:VEVENT
DTSTART:20220321T100000
DTEND:20220411T100000
LOCATION:wydarzenie online   
TRANSP: OPAQUE
SEQUENCE:0
UID:
DTSTAMP:20260420T081004Z
SUMMARY:Konsultacje indywidualne: jak zdobyć fundusze na start firmy - dotacje i pożyczki na zakładanie i rozwój działalności gospodarczej
DESCRIPTION:Planujesz założyć firmę? Umów się na indywidualne, bezpłatne konsultacje online i dowiedz się: jak znaleźć bezzwrotną dotację na założenie firmy uzyskać preferencyjną pożyczkę na......
URL:https://app.evenea.pl/event/funduszenastartkwiecien/
PRIORITY:1
CLASS:PUBLIC
END:VEVENT
END:VCALENDAR
