BEGIN:VCALENDAR
VERSION:2.0
METHOD:PUBLISH
BEGIN:VEVENT
DTSTART:20241108T090000
DTEND:20241108T113000
LOCATION:inQUBE/Online Wielka 67  Wrocław
TRANSP: OPAQUE
SEQUENCE:0
UID:
DTSTAMP:20260419T210110Z
SUMMARY:Konsultacje indywidualne: jak zdobyć fundusze na start firmy - dotacje i pożyczki na zakładanie i rozwój działalności gospodarczej
DESCRIPTION:Poszukujesz funduszów na start lub rozwój firmy? Umów się na indywidualne, bezpłatne konsultacje (stacjonarnie w inQUBE lub online) i sprawdź czy możesz skorzystać z dofinansowania.System......
URL:https://app.evenea.pl/event/funduszenastartlistopadinqube2024/
PRIORITY:1
CLASS:PUBLIC
END:VEVENT
END:VCALENDAR
