BEGIN:VCALENDAR
VERSION:2.0
METHOD:PUBLISH
BEGIN:VEVENT
DTSTART:20230912T093000
DTEND:20230912T103000
LOCATION:wydarzenie online   
TRANSP: OPAQUE
SEQUENCE:0
UID:
DTSTAMP:20260420T014026Z
SUMMARY:Konsultacje indywidualne: jak zdobyć fundusze na start firmy - dotacje i pożyczki na zakładanie i rozwój działalności gospodarczej
DESCRIPTION:Poszukujesz funduszów na start lub rozwój firmy? Umów się na indywidualne, bezpłatne konsultacje online i sprawdź czy możesz skorzystać z dofinansowania.System Funduszy Europejskich w......
URL:https://app.evenea.pl/event/funduszenastartwrzesien2023/
PRIORITY:1
CLASS:PUBLIC
END:VEVENT
END:VCALENDAR
