BEGIN:VCALENDAR
VERSION:2.0
METHOD:PUBLISH
BEGIN:VEVENT
DTSTART:20190703T120000
DTEND:20190703T140000
LOCATION:Raciborski Inkubator Przedsiębiorczości ul. Batorego 7  Racibórz
TRANSP: OPAQUE
SEQUENCE:0
UID:
DTSTAMP:20260425T044755Z
SUMMARY:Fundusze UE dla przedsiębiorców i przedsiębiorczych
DESCRIPTION:Zapraszamy na bezpłatne konsultacje z doradcą Punktu Informacyjnego Funduszy Europejskich. Już 3 lipca 2019 r. w Inkubatorze Przedsiębiorczości będzie można dowiedzieć się, jakie fundusze......
URL:https://app.evenea.pl/event/funduszeue-3-7-2019/
PRIORITY:1
CLASS:PUBLIC
END:VEVENT
END:VCALENDAR
