BEGIN:VCALENDAR
VERSION:2.0
METHOD:PUBLISH
BEGIN:VEVENT
DTSTART:20260422T203000
DTEND:20260422T223000
LOCATION:OS Szopienice 11 Listopada 16  Katowice
TRANSP: OPAQUE
SEQUENCE:0
UID:
DTSTAMP:20260421T141746Z
SUMMARY:AZS UŚ Katowice - BSF ABJ Powiat Bochnia
DESCRIPTION:Mecz 29. kolejki FOGO Futsal Ekstraklasy pomiędzy drużynami AZS UŚ Katowice a BSF ABJ Powiat Bochnia....
URL:https://app.evenea.pl/event/futsalazsus29/
PRIORITY:1
CLASS:PUBLIC
END:VEVENT
END:VCALENDAR
