BEGIN:VCALENDAR
VERSION:2.0
METHOD:PUBLISH
BEGIN:VEVENT
DTSTART:20241029T100000
DTEND:20241029T100000
LOCATION:Olivia Business Centre Aleja Grunwaldzka 472  Gdańsk
TRANSP: OPAQUE
SEQUENCE:0
UID:
DTSTAMP:20260425T051658Z
SUMMARY:Future Horizons 2024
DESCRIPTION:Konferencja "Future Horizons" łączy młodych ludzi z biznesem, promując innowacje i zrównoważony rozwój. To doskonała okazja do spotkania z przyszłymi liderami i talentami oraz do......
URL:https://app.evenea.pl/event/future-horizons2024/
PRIORITY:1
CLASS:PUBLIC
END:VEVENT
END:VCALENDAR
