BEGIN:VCALENDAR
VERSION:2.0
METHOD:PUBLISH
BEGIN:VEVENT
DTSTART:20240607T170000
DTEND:20240607T170000
LOCATION:Płocki Park Przemysłowo-Technologiczny S.A. Łukasiewicza 39  Płock
TRANSP: OPAQUE
SEQUENCE:0
UID:
DTSTAMP:20260420T112324Z
SUMMARY:Konferencja FUTURE WITH AI - Odkryj Przyszłość ze Sztuczną Inteligencją
DESCRIPTION:Interesuje Cię temat rozwoju sztucznej inteligencji i jej wpływu na nasze codzienne życie? Chcesz się dowiedzieć, jak dzięki AI pracować mniej i bardziej efektywnie? Weź udział w......
URL:https://app.evenea.pl/event/future-with-ai/
PRIORITY:1
CLASS:PUBLIC
END:VEVENT
END:VCALENDAR
