BEGIN:VCALENDAR
VERSION:2.0
METHOD:PUBLISH
BEGIN:VEVENT
DTSTART:20210428T110000
DTEND:20210428T110000
LOCATION:online   
TRANSP: OPAQUE
SEQUENCE:0
UID:
DTSTAMP:20260424T184817Z
SUMMARY:Bezpłatny webinar "Zarządzanie wiedzą w organizacji" 1/3
DESCRIPTION:O kulturze organizacyjnej firmy świadczy sposób, w jaki przetwarza ona informacje (Ron Westrum).Zapowiada się, że do końca roku będziemy zmuszeni pracować zdalnie lub hybrydowo. To wyzwanie......
URL:https://app.evenea.pl/event/futureofteamwork/
PRIORITY:1
CLASS:PUBLIC
END:VEVENT
END:VCALENDAR
