BEGIN:VCALENDAR
VERSION:2.0
METHOD:PUBLISH
BEGIN:VEVENT
DTSTART:20240918T170000
DTEND:20241106T180000
LOCATION:Gdański Ośrodek Promocji Zdrowia i Profilaktyki Uzależnień Wrzeszczańska 29  Gdańsk
TRANSP: OPAQUE
SEQUENCE:0
UID:
DTSTAMP:20260420T224236Z
SUMMARY:G2-BASKET 3x3 FitKlasa środy 17:00-18:00
DESCRIPTION:Zapraszamy dzieci i młodzież do projektu FitKlasa Basket 3x3w formie 8 tygodniowego kursu koszykówki 3x3 (zajęcia 1 raz w tygodniu)(udział bezpłatny, w projekcie można wziąć udział tylko......
URL:https://app.evenea.pl/event/g2-basket3x3/
PRIORITY:1
CLASS:PUBLIC
END:VEVENT
END:VCALENDAR
