BEGIN:VCALENDAR
VERSION:2.0
METHOD:PUBLISH
BEGIN:VEVENT
DTSTART:20251021T180000
DTEND:20251021T210000
LOCATION:Teatr Kamienica Al. Solidarności 93  Warszawa
TRANSP: OPAQUE
SEQUENCE:0
UID:
DTSTAMP:20260424T183747Z
SUMMARY:Gala finałowa 4. edycji MCSC Hospital Leadership Innovation
DESCRIPTION:Gala finałowa 4. edycji MCSC Hospital Leadership Innovation 📅 Data: 21 października 2025 🕡 Godzina: 18:30 (rejestracja od 18:00) 📍 Miejsce: Teatr Kamienica - Scena Orla,......
URL:https://app.evenea.pl/event/gala-mcsc-2025/
PRIORITY:1
CLASS:PUBLIC
END:VEVENT
END:VCALENDAR
