BEGIN:VCALENDAR
VERSION:2.0
METHOD:PUBLISH
BEGIN:VEVENT
DTSTART:20231205T170000
DTEND:20231205T190000
LOCATION:Rydułtowskie Centrum Kultury (sala teatralna) ul. Strzelców Bytomskich 9a  Rydułtowy
TRANSP: OPAQUE
SEQUENCE:0
UID:
DTSTAMP:20260424T122952Z
SUMMARY:Gala Wolontariatu 2023
DESCRIPTION:Przed nami gala podsumowująca konkursy "Wolontariusz Roku 2023" oraz "Koordynator Wolontariatu 2023" Subregionu Zachodniego Województwa Śląskiego. Uroczystość odbędzie się 5 grudnia 2023 w......
URL:https://app.evenea.pl/event/gala2023/
PRIORITY:1
CLASS:PUBLIC
END:VEVENT
END:VCALENDAR
