BEGIN:VCALENDAR
VERSION:2.0
METHOD:PUBLISH
BEGIN:VEVENT
DTSTART:20210630T180000
DTEND:20210630T200000
LOCATION:Audytorium Europejskiego Centrum Solidarności pl. Solidarności 1  Gdańsk
TRANSP: OPAQUE
SEQUENCE:0
UID:
DTSTAMP:20260421T204101Z
SUMMARY:iV edycja Gdańskiej Nagrody Równości im. Pawła Adamowicza
DESCRIPTION:...
URL:https://app.evenea.pl/event/galagnr/
PRIORITY:1
CLASS:PUBLIC
END:VEVENT
END:VCALENDAR
