BEGIN:VCALENDAR
VERSION:2.0
METHOD:PUBLISH
BEGIN:VEVENT
DTSTART:20251007T180000
DTEND:20251007T180000
LOCATION:Filharmonia Koszalińska im. Stanisława Moniuszki ul. Piastowska 2  Koszalin
TRANSP: OPAQUE
SEQUENCE:0
UID:
DTSTAMP:20260419T151614Z
SUMMARY:Gala z okazji Koszalińskiego Dnia Organizacji Pozarządowych 2025
DESCRIPTION:Po raz kolejny z ogromną radością zapraszamy Was na wyjątkowe święto - Galę z okazji Koszalińskiego Dnia Organizacji Pozarządowych, pełną pozytywnej energii, inspiracji i wspólnego......
URL:https://app.evenea.pl/event/galango2025/
PRIORITY:1
CLASS:PUBLIC
END:VEVENT
END:VCALENDAR
