BEGIN:VCALENDAR
VERSION:2.0
METHOD:PUBLISH
BEGIN:VEVENT
DTSTART:20240606T183000
DTEND:20240606T235900
LOCATION:Forteca Kręgliccy Zakroczymska 12  Warszawa
TRANSP: OPAQUE
SEQUENCE:0
UID:
DTSTAMP:20260421T232439Z
SUMMARY:Gala Top Woman in Real Estate 2024
DESCRIPTION:Zapraszamy na Galę Top Woman in Real Estate 2024!Uroczysta Gala rozstrzygająca VII edycję konkursu odbędzie się 6 czerwca w Fortecy Kręglickich w Warszawie!Zobacz relację z poprzedniej Gali......
URL:https://app.evenea.pl/event/galatopwoman2024/
PRIORITY:1
CLASS:PUBLIC
END:VEVENT
END:VCALENDAR
