BEGIN:VCALENDAR
VERSION:2.0
METHOD:PUBLISH
BEGIN:VEVENT
DTSTART:20260203T190000
DTEND:20260203T210000
LOCATION:Kolonia Aleja Grunwaldzka 51  Gdańsk
TRANSP: OPAQUE
SEQUENCE:0
UID:
DTSTAMP:20260422T143650Z
SUMMARY:Galuschka new album XLVIII - live + B-day party
DESCRIPTION:Galuschka new album XLVIII - live + B-day party.03.02.2026 | godz. 19:00Kolonia | WrzeszczWstęp wolny / rejestracja evenea.pl03.02.2026 zapraszam na premierowy koncert albumu XLVIII + spotkanie......
URL:https://app.evenea.pl/event/galuschka2026/
PRIORITY:1
CLASS:PUBLIC
END:VEVENT
END:VCALENDAR
