BEGIN:VCALENDAR
VERSION:2.0
METHOD:PUBLISH
BEGIN:VEVENT
DTSTART:20251203T180000
DTEND:20251203T180000
LOCATION:Restauracja BOSCO ul. Gen. Stanisława Maczka 41  43-300 Bielsko-Biała
TRANSP: OPAQUE
SEQUENCE:0
UID:
DTSTAMP:20260424T135958Z
SUMMARY:Świąteczne Kolędowanie z Beskidzką Izbą Gospodarczą
DESCRIPTION:Serdecznie zapraszamy do wspólnego świętowania!ZespółBESKIDZKIEJ IZBY GOSPODARCZEJul. Wzgórze 1, 43-300 Bielsko-Białatel. (33) 810-33-76e-mail: biuroizby@cci.plwww.cci.pl...
URL:https://app.evenea.pl/event/gbig2025/
PRIORITY:1
CLASS:PUBLIC
END:VEVENT
END:VCALENDAR
