BEGIN:VCALENDAR
VERSION:2.0
METHOD:PUBLISH
BEGIN:VEVENT
DTSTART:20191010T090000
DTEND:20191010T113000
LOCATION:ŁKS Skybox by Nowy Styl al. Unii Lubelskiej 2  Łódź
TRANSP: OPAQUE
SEQUENCE:0
UID:
DTSTAMP:20260420T034936Z
SUMMARY:GBS LIONS' TALKS- śniadanie biznesowe w Łodzi
DESCRIPTION:Na pierwszy rzut oka zarządzanie wiedzą może wydawać się dziecinnie proste. Jednak ci najlepsi dobrze wiedzą, że należy "kopać głębiej". Wraz z ABSL, mamy przyjemność zaprosić......
URL:https://app.evenea.pl/event/gbslionstalkslodz/
PRIORITY:1
CLASS:PUBLIC
END:VEVENT
END:VCALENDAR
